BEGIN:VCALENDAR
VERSION:2.0
PRODID:-//St. Mary&#039;s on Broadway - ECPv6.15.1.1//NONSGML v1.0//EN
CALSCALE:GREGORIAN
METHOD:PUBLISH
X-WR-CALNAME:St. Mary&#039;s on Broadway
X-ORIGINAL-URL:https://stmarypvdri.org
X-WR-CALDESC:Events for St. Mary&#039;s on Broadway
REFRESH-INTERVAL;VALUE=DURATION:PT1H
X-Robots-Tag:noindex
X-PUBLISHED-TTL:PT1H
BEGIN:VTIMEZONE
TZID:UTC
BEGIN:STANDARD
TZOFFSETFROM:+0000
TZOFFSETTO:+0000
TZNAME:UTC
DTSTART:20210101T000000
END:STANDARD
END:VTIMEZONE
BEGIN:VEVENT
DTSTART;TZID=UTC:20211204T100000
DTEND;TZID=UTC:20211204T113000
DTSTAMP:20260424T112142
CREATED:20211127T204531Z
LAST-MODIFIED:20211127T204531Z
UID:11780-1638612000-1638617400@stmarypvdri.org
SUMMARY:Legion of Mary
DESCRIPTION:The Legion of Mary St. Mary’s Praesidium meets every Saturday at 10am in the Church. \nThe purpose of the Legion is evangelize the world with the help of Mary our Mother\, and the Holy Ghost. \nThere are many apostolates happening at the St. Mary’s Praesidium including: \n\nA Rosary walk around Planned Parenthood\nHomebound visits\nNursing home evangelization\nEvangelizing the poor through the St. Martin De Porres Center\nTraveling statue of our Blessed Mother\nSidewalk outreach through a book barrow\nDoor to door evangelization\nSoon: Prison ministry
URL:https://stmarypvdri.org/event/legion-of-mary/
LOCATION:St. Mary’s on Broadway\, 538 Broadway\, Providence\, RI\, 02909\, United States
CATEGORIES:Spiritual Growth
ATTACH;FMTTYPE=image/jpeg:https://stmarypvdri.org/wp-content/uploads/2021/07/IMG_7705.jpg
END:VEVENT
BEGIN:VEVENT
DTSTART;TZID=UTC:20211202T180000
DTEND;TZID=UTC:20211202T190000
DTSTAMP:20260424T112142
CREATED:20211129T231352Z
LAST-MODIFIED:20211130T023831Z
UID:11807-1638468000-1638471600@stmarypvdri.org
SUMMARY:Adoration
DESCRIPTION:
URL:https://stmarypvdri.org/event/adoration/
LOCATION:St. Mary’s on Broadway\, 538 Broadway\, Providence\, RI\, 02909\, United States
CATEGORIES:Adoration
ATTACH;FMTTYPE=image/jpeg:https://stmarypvdri.org/wp-content/uploads/2021/11/DEC_9740.jpg
END:VEVENT
BEGIN:VEVENT
DTSTART;TZID=UTC:20211201T190000
DTEND;TZID=UTC:20211201T210000
DTSTAMP:20260424T112142
CREATED:20211127T201329Z
LAST-MODIFIED:20211130T023615Z
UID:11762-1638385200-1638392400@stmarypvdri.org
SUMMARY:Young Adults Group
DESCRIPTION:The Young Adults’ Group meets officially once a week. Each meeting consists of talks and discussion\, a shared meal\, and social activity. The meeting is open to members of the parish and non-members between the ages of 18 and 35 who are interested. \nMeetings occur on Wednesday evenings following the 6:00pm Mass and Compline.
URL:https://stmarypvdri.org/event/young-adults-group/
LOCATION:School Hall
CATEGORIES:Young Adults Group
ATTACH;FMTTYPE=image/jpeg:https://stmarypvdri.org/wp-content/uploads/2021/11/IMG_0158.jpg
END:VEVENT
BEGIN:VEVENT
DTSTART;TZID=UTC:20211129T193000
DTEND;TZID=UTC:20211129T203000
DTSTAMP:20260424T112142
CREATED:20211130T023748Z
LAST-MODIFIED:20211130T023748Z
UID:11817-1638214200-1638217800@stmarypvdri.org
SUMMARY:Adoration
DESCRIPTION:
URL:https://stmarypvdri.org/event/adoration-5/
LOCATION:St. Mary’s on Broadway\, 538 Broadway\, Providence\, RI\, 02909\, United States
CATEGORIES:Adoration
ATTACH;FMTTYPE=image/jpeg:https://stmarypvdri.org/wp-content/uploads/2021/11/1I7A8490.jpg
END:VEVENT
BEGIN:VEVENT
DTSTART;TZID=UTC:20211118T180000
DTEND;TZID=UTC:20211118T210000
DTSTAMP:20260424T112142
CREATED:20211117T225328Z
LAST-MODIFIED:20211117T225328Z
UID:11469-1637258400-1637269200@stmarypvdri.org
SUMMARY:Holy Name Society Meeting
DESCRIPTION:We will begin with Adoration at 6pm followed by a talk at 7pm. After the talk we will share a meal together and one of our members will give a talk on a saint. \nThe event is open to all men of Saint Mary’s who are either married or over 30 years of age.
URL:https://stmarypvdri.org/event/holy-name-society-meeting-2/
LOCATION:St. Mary’s on Broadway\, 538 Broadway\, Providence\, RI\, 02909\, United States
CATEGORIES:Men's Group
ATTACH;FMTTYPE=image/jpeg:https://stmarypvdri.org/wp-content/uploads/2021/11/DEC_0841-16-9-scaled.jpg
ORGANIZER;CN="Teddy McMahon":MAILTO:holynamesociety@stmaryonbroadway.org
END:VEVENT
BEGIN:VEVENT
DTSTART;TZID=UTC:20211111T190000
DTEND;TZID=UTC:20211111T210000
DTSTAMP:20260424T112142
CREATED:20211110T010834Z
LAST-MODIFIED:20211221T024214Z
UID:11461-1636657200-1636664400@stmarypvdri.org
SUMMARY:Women's Sodality Meeting
DESCRIPTION:The Sodality of Mary\, Mother of Mercy (named after the Marian Altar in the Church) is for women over 21 years old. The chief aim of this chapter\, taken from the Sodality’s manual\, is “…to foster in the hearts of the members a more than ordinary devotion to our Blessed Lady\, in order that\, helped by her special protection\, they may lead a pure Christian life and prepare themselves to die a happy death.” \nThis chapter will regularly meet once a month at 7:00 PM on the 2nd Thursday of the month.
URL:https://stmarypvdri.org/event/womens-sodality-meeting/
LOCATION:St. Mary’s on Broadway\, 538 Broadway\, Providence\, RI\, 02909\, United States
ATTACH;FMTTYPE=image/jpeg:https://stmarypvdri.org/wp-content/uploads/2021/07/DEC_7267-scaled.jpg
END:VEVENT
BEGIN:VEVENT
DTSTART;TZID=UTC:20210808T114500
DTEND;TZID=UTC:20210808T124500
DTSTAMP:20260424T112142
CREATED:20210801T010846Z
LAST-MODIFIED:20210801T010916Z
UID:11119-1628423100-1628426700@stmarypvdri.org
SUMMARY:Reception for Fr. Jackson and Fr. Truong
DESCRIPTION:There will be a reception for Fr. Jackson and Fr. Truong following the 10:30 a.m. Mass in the cafeteria of the school next to the church. \nLet’s all give a warm welcome to our new pastor and assistant pastor at St. Mary’s. \nPlease bring a breakfast item or baked goods if you are able.
URL:https://stmarypvdri.org/event/reception-for-fr-jackson-and-fr-truong/
LOCATION:St. Mary’s on Broadway\, 538 Broadway\, Providence\, RI\, 02909\, United States
ATTACH;FMTTYPE=image/jpeg:https://stmarypvdri.org/wp-content/uploads/2021/07/1I7A1089-scaled.jpg
END:VEVENT
BEGIN:VEVENT
DTSTART;TZID=UTC:20210731T190000
DTEND;TZID=UTC:20210731T220000
DTSTAMP:20260424T112142
CREATED:20210722T014443Z
LAST-MODIFIED:20210722T015914Z
UID:10893-1627758000-1627768800@stmarypvdri.org
SUMMARY:St. Mary's Movie Night
DESCRIPTION:CoLab will be hosting another Movie night on a Saint. This time we are featuring St. Ignatius since it is also his feast day! \nWe will start with dinner at 7pm and start the movie at 8pm \nThis is  a potluck so please bring a main course\, side\,  drinks\, or a dessert to share. \nRSVP with Dave and let him know what you will be bringing! \nHere’s the official Trailer
URL:https://stmarypvdri.org/event/movie-night/
LOCATION:CoLab Coworking\, 2206 Broad Street\, Cranston\, RI\, 02905\, United States
CATEGORIES:Movie Night
ATTACH;FMTTYPE=image/jpeg:https://stmarypvdri.org/wp-content/uploads/2021/07/movie-night-ignatius-of-loyola.jpg
ORGANIZER;CN="David Counts":MAILTO:dave@countswebdesign.om
END:VEVENT
BEGIN:VEVENT
DTSTART;TZID=UTC:20210725T103000
DTEND;TZID=UTC:20210725T123000
DTSTAMP:20260424T112142
CREATED:20210722T010317Z
LAST-MODIFIED:20210722T011236Z
UID:10887-1627209000-1627216200@stmarypvdri.org
SUMMARY:Bishop Tobin Visiting for Sunday's Sung Mass
DESCRIPTION:In light of the motu proprio “Traditionis Custodes”\, Bishop Tobin is coming to St. Mary’s in a generous showing of support. \nHe will come to see the growth of the parish and will say a few words of reassurance to the faithful prior to the sermon. We are extremely grateful to His Excellency yet again for his paternal care for the parish and for all of the souls who worship here. We hope that many will be able to thank him in person next Sunday.  \nHe will also make a brief appearance at Coffee ‘An in the cafeteria directly after Mass.
URL:https://stmarypvdri.org/event/bishop-tobin-visiting-for-high-mass/
LOCATION:St. Mary’s on Broadway\, 538 Broadway\, Providence\, RI\, 02909\, United States
CATEGORIES:Special Mass
ATTACH;FMTTYPE=image/jpeg:https://stmarypvdri.org/wp-content/uploads/2021/07/Bishop-Tobin-Portrait-2017-Cropped-horizontal.jpg
END:VEVENT
BEGIN:VEVENT
DTSTART;TZID=UTC:20210722T180000
DTEND;TZID=UTC:20210722T220000
DTSTAMP:20260424T112142
CREATED:20210721T191421Z
LAST-MODIFIED:20210721T192947Z
UID:10872-1626976800-1626991200@stmarypvdri.org
SUMMARY:Holy Name Society Meeting
DESCRIPTION:We will begin with Adoration at 6pm followed by a talk given by Fr. Berg at 7pm. After the talk we will share a meal together and one of our members will give a talk on a saint. \nThe event is open to all men of Saint Mary’s who are either married or over 30 years of age.
URL:https://stmarypvdri.org/event/holy-name-society-meeting/
LOCATION:St. Mary’s on Broadway\, 538 Broadway\, Providence\, RI\, 02909\, United States
CATEGORIES:Men's Group
ATTACH;FMTTYPE=image/jpeg:https://stmarypvdri.org/wp-content/uploads/2021/07/HolyNameSociety-outside-summer.jpg
END:VEVENT
END:VCALENDAR