BEGIN:VCALENDAR
VERSION:2.0
PRODID:-//St. Mary&#039;s on Broadway - ECPv6.15.1.1//NONSGML v1.0//EN
CALSCALE:GREGORIAN
METHOD:PUBLISH
X-ORIGINAL-URL:https://stmarypvdri.org
X-WR-CALDESC:Events for St. Mary&#039;s on Broadway
REFRESH-INTERVAL;VALUE=DURATION:PT1H
X-Robots-Tag:noindex
X-PUBLISHED-TTL:PT1H
BEGIN:VTIMEZONE
TZID:UTC
BEGIN:STANDARD
TZOFFSETFROM:+0000
TZOFFSETTO:+0000
TZNAME:UTC
DTSTART:20210101T000000
END:STANDARD
END:VTIMEZONE
BEGIN:VEVENT
DTSTART;TZID=UTC:20211229T190000
DTEND;TZID=UTC:20211229T220000
DTSTAMP:20260424T062926
CREATED:20211127T202604Z
LAST-MODIFIED:20211221T022707Z
UID:11776-1640804400-1640815200@stmarypvdri.org
SUMMARY:Young Adults Group
DESCRIPTION:The Young Adults’ Group meets officially once a week. Each meeting consists of talks and discussion\, a shared meal\, and social activity. The meeting is open to members of the parish and non-members between the ages of 18 and 35 who are interested. \nMeetings occur on Wednesday evenings following the 6:00pm Mass and Compline.
URL:https://stmarypvdri.org/event/young-adults-group-5/
LOCATION:School Hall
CATEGORIES:Young Adults Group
ATTACH;FMTTYPE=image/jpeg:https://stmarypvdri.org/wp-content/uploads/2021/11/IMG_0158.jpg
END:VEVENT
BEGIN:VEVENT
DTSTART;TZID=UTC:20211222T190000
DTEND;TZID=UTC:20211222T210000
DTSTAMP:20260424T062926
CREATED:20211127T202416Z
LAST-MODIFIED:20211206T195833Z
UID:11774-1640199600-1640206800@stmarypvdri.org
SUMMARY:Young Adults Group
DESCRIPTION:The Young Adults’ Group meets officially once a week. Each meeting consists of talks and discussion\, a shared meal\, and social activity. The meeting is open to members of the parish and non-members between the ages of 18 and 35 who are interested. \nMeetings occur on Wednesday evenings following the 6:00pm Mass and Compline.
URL:https://stmarypvdri.org/event/young-adults-group-4/
LOCATION:School Hall
CATEGORIES:Young Adults Group
ATTACH;FMTTYPE=image/jpeg:https://stmarypvdri.org/wp-content/uploads/2021/11/IMG_0158.jpg
END:VEVENT
BEGIN:VEVENT
DTSTART;TZID=UTC:20211215T190000
DTEND;TZID=UTC:20211215T210000
DTSTAMP:20260424T062926
CREATED:20211127T202258Z
LAST-MODIFIED:20211206T191735Z
UID:11772-1639594800-1639602000@stmarypvdri.org
SUMMARY:Young Adults Group
DESCRIPTION:The Young Adults’ Group meets officially once a week. Each meeting consists of talks and discussion\, a shared meal\, and social activity. The meeting is open to members of the parish and non-members between the ages of 18 and 35 who are interested. \nMeetings occur on Wednesday evenings following the 6:00pm Mass and Compline.
URL:https://stmarypvdri.org/event/young-adults-group-3/
LOCATION:School Hall
CATEGORIES:Young Adults Group
ATTACH;FMTTYPE=image/jpeg:https://stmarypvdri.org/wp-content/uploads/2021/11/IMG_0158.jpg
END:VEVENT
BEGIN:VEVENT
DTSTART;TZID=UTC:20211201T190000
DTEND;TZID=UTC:20211201T210000
DTSTAMP:20260424T062926
CREATED:20211127T201329Z
LAST-MODIFIED:20211130T023615Z
UID:11762-1638385200-1638392400@stmarypvdri.org
SUMMARY:Young Adults Group
DESCRIPTION:The Young Adults’ Group meets officially once a week. Each meeting consists of talks and discussion\, a shared meal\, and social activity. The meeting is open to members of the parish and non-members between the ages of 18 and 35 who are interested. \nMeetings occur on Wednesday evenings following the 6:00pm Mass and Compline.
URL:https://stmarypvdri.org/event/young-adults-group/
LOCATION:School Hall
CATEGORIES:Young Adults Group
ATTACH;FMTTYPE=image/jpeg:https://stmarypvdri.org/wp-content/uploads/2021/11/IMG_0158.jpg
END:VEVENT
END:VCALENDAR