BEGIN:VCALENDAR
VERSION:2.0
PRODID:-//St. Mary&#039;s on Broadway - ECPv6.15.1.1//NONSGML v1.0//EN
CALSCALE:GREGORIAN
METHOD:PUBLISH
X-ORIGINAL-URL:https://stmarypvdri.org
X-WR-CALDESC:Events for St. Mary&#039;s on Broadway
REFRESH-INTERVAL;VALUE=DURATION:PT1H
X-Robots-Tag:noindex
X-PUBLISHED-TTL:PT1H
BEGIN:VTIMEZONE
TZID:America/New_York
BEGIN:DAYLIGHT
TZOFFSETFROM:-0500
TZOFFSETTO:-0400
TZNAME:EDT
DTSTART:20220313T070000
END:DAYLIGHT
BEGIN:STANDARD
TZOFFSETFROM:-0400
TZOFFSETTO:-0500
TZNAME:EST
DTSTART:20221106T060000
END:STANDARD
BEGIN:DAYLIGHT
TZOFFSETFROM:-0500
TZOFFSETTO:-0400
TZNAME:EDT
DTSTART:20230312T070000
END:DAYLIGHT
BEGIN:STANDARD
TZOFFSETFROM:-0400
TZOFFSETTO:-0500
TZNAME:EST
DTSTART:20231105T060000
END:STANDARD
BEGIN:DAYLIGHT
TZOFFSETFROM:-0500
TZOFFSETTO:-0400
TZNAME:EDT
DTSTART:20240310T070000
END:DAYLIGHT
BEGIN:STANDARD
TZOFFSETFROM:-0400
TZOFFSETTO:-0500
TZNAME:EST
DTSTART:20241103T060000
END:STANDARD
END:VTIMEZONE
BEGIN:VTIMEZONE
TZID:UTC
BEGIN:STANDARD
TZOFFSETFROM:+0000
TZOFFSETTO:+0000
TZNAME:UTC
DTSTART:20210101T000000
END:STANDARD
END:VTIMEZONE
BEGIN:VEVENT
DTSTART;TZID=America/New_York:20240323T083000
DTEND;TZID=America/New_York:20240323T140000
DTSTAMP:20260424T015438
CREATED:20240219T143126Z
LAST-MODIFIED:20240322T133615Z
UID:13840-1711182600-1711202400@stmarypvdri.org
SUMMARY:Women's Lenten Day of Recollection 2024
DESCRIPTION:On Saturday\, March 23 from 9:00 a.m. to 2:00 p.m.\, there will be a retreat for women with Rosary and Confessions at 8:30 a.m.\, Mass at 9:00 a.m.\, spiritual reflections\, Adoration/Benediction and ending with a potluck lunch. This event is open to all women of St. Mary’s parish.
URL:https://stmarypvdri.org/event/womens-lenten-day-of-recollection-2024/
LOCATION:St. Mary’s on Broadway\, 538 Broadway\, Providence\, RI\, 02909\, United States
CATEGORIES:Women's Group
ATTACH;FMTTYPE=image/jpeg:https://stmarypvdri.org/wp-content/uploads/2021/11/DEC_9575.jpg
ORGANIZER;CN="Kelly LaBarbera":MAILTO:sodalitymmm@stmaryonbroadway.org
END:VEVENT
BEGIN:VEVENT
DTSTART;TZID=America/New_York:20220312T083000
DTEND;TZID=America/New_York:20220312T144500
DTSTAMP:20260424T015438
CREATED:20220218T161414Z
LAST-MODIFIED:20220218T175704Z
UID:12372-1647073800-1647096300@stmarypvdri.org
SUMMARY:Women’s Day of Recollection
DESCRIPTION: Lenten Days of Recollection 2022 \n Women’s Day of Recollection. Saturday\, March 12\, 2022  \nFor reservations please email: bookstore@stmaryonbroadway.org or by calling the Shrine office at 401-568-8280  \nSuggested Donation: $15 \n  \nSaturday\, March 12\, 2022 – 8:30am-2:45pm \n8:30a- Rosary  \n9a- Mass  \n10a- coffee  \n10:30a- Fr. Thu Truong\, FSSP “The Little Way of Perfection- the example of a mother and her daughter- St. Zellie and St. Therese”  \n11:30a- Potluck Luncheon  \n12:30p- Sr. Mary-Clair\, MICM Title (TBA)  \n1:30p- Eucharistic Adoration  \n2:30p- Benediction  \n  \n*There is no age requirement to attend this event. \n  \nSt. Therese Church and Hall  \n35 Dion Drive  \nNasonville\, RI 02830  \n401-568-8280 
URL:https://stmarypvdri.org/event/womens-day-of-recollection/
LOCATION:St. Theresa’s Shrine\, 35 Dion Drive\, Nasonville\, RI 02830\, RI\, 02830
CATEGORIES:Spiritual Growth,Women's Group
ATTACH;FMTTYPE=image/jpeg:https://stmarypvdri.org/wp-content/uploads/2021/11/DEC_9837.jpg
END:VEVENT
BEGIN:VEVENT
DTSTART;TZID=UTC:20220108T100000
DTEND;TZID=UTC:20220108T233000
DTSTAMP:20260424T015438
CREATED:20211127T213722Z
LAST-MODIFIED:20211228T211854Z
UID:12030-1641636000-1641684600@stmarypvdri.org
SUMMARY:The Sodality of the Blessed Virgin
DESCRIPTION:The Sodality of the Blessed Virgin is for young ladies ages 14-20 which generally meets on the First Saturday of the month after Mass and First Saturday Devotion.  “The Sodality of the Blessed Virgin Mary\, or the Congregation of the Children of Mary\, has for its object to assemble its members at the feet of the Mother of God\, to dedicate them in a very special manner to the veneration and service of the Blessed Virgin” (From The Catholic Girl’s Guide\, by Fr. Lasance). \n \n 
URL:https://stmarypvdri.org/event/chapters-of-our-ladys-sodality-2022-01-01/
LOCATION:St. Mary’s on Broadway\, 538 Broadway\, Providence\, RI\, 02909\, United States
CATEGORIES:Women's Group
ATTACH;FMTTYPE=image/jpeg:https://stmarypvdri.org/wp-content/uploads/2021/07/DEC_7267-scaled.jpg
END:VEVENT
BEGIN:VEVENT
DTSTART;TZID=UTC:20220108T100000
DTEND;TZID=UTC:20220108T113000
DTSTAMP:20260424T015438
CREATED:20211127T212501Z
LAST-MODIFIED:20211231T070646Z
UID:12054-1641636000-1641641400@stmarypvdri.org
SUMMARY:Little Flowers
DESCRIPTION:The Little Flowers group welcomes young girls ages 5-8 to learn about the virtues through Scripture\, Saints’ biographies\, and the Catechism.  We will have a tea luncheon\, and crafts at each meeting. \nThe Little Flowers will meet on the First Saturday of every month following Mass and First Saturday devotion.
URL:https://stmarypvdri.org/event/little-flowers-2022-01-01/
LOCATION:St. Mary’s on Broadway\, 538 Broadway\, Providence\, RI\, 02909\, United States
CATEGORIES:Women's Group
ATTACH;FMTTYPE=image/jpeg:https://stmarypvdri.org/wp-content/uploads/2021/11/1I7A8440.jpg
END:VEVENT
BEGIN:VEVENT
DTSTART;TZID=UTC:20220108T100000
DTEND;TZID=UTC:20220108T113000
DTSTAMP:20260424T015438
CREATED:20211127T212129Z
LAST-MODIFIED:20211228T212041Z
UID:12042-1641636000-1641641400@stmarypvdri.org
SUMMARY:Rosa Mystica Girls Society
DESCRIPTION:Rosa Mystica Girls Society (RMGS) mission is to help young girls\, ages 9-13\, grow in faith\, virtue\, and service\, through hospitality\, in union with the Holy Sacrifice of the Mass. \nRMGS  will meet on the First Saturday of every month following Mass and First Saturday devotion.
URL:https://stmarypvdri.org/event/rosa-mystica-girls-society-2022-01-01/
LOCATION:St. Mary’s on Broadway\, 538 Broadway\, Providence\, RI\, 02909\, United States
CATEGORIES:Women's Group
ATTACH;FMTTYPE=image/gif:https://stmarypvdri.org/wp-content/uploads/2021/07/mystical_rose-220x300-1.gif
END:VEVENT
BEGIN:VEVENT
DTSTART;TZID=UTC:20211209T100000
DTEND;TZID=UTC:20211209T233000
DTSTAMP:20260424T015438
CREATED:20211127T213722Z
LAST-MODIFIED:20211221T024624Z
UID:11793-1639044000-1639092600@stmarypvdri.org
SUMMARY:The Sodality of the Blessed Virgin
DESCRIPTION:The Sodality of the Blessed Virgin is for young ladies ages 14-20 which generally meets on the First Saturday of the month after Mass and First Saturday Devotion.  “The Sodality of the Blessed Virgin Mary\, or the Congregation of the Children of Mary\, has for its object to assemble its members at the feet of the Mother of God\, to dedicate them in a very special manner to the veneration and service of the Blessed Virgin” (From The Catholic Girl’s Guide\, by Fr. Lasance). \n \n 
URL:https://stmarypvdri.org/event/chapters-of-our-ladys-sodality/
LOCATION:St. Mary’s on Broadway\, 538 Broadway\, Providence\, RI\, 02909\, United States
CATEGORIES:Women's Group
ATTACH;FMTTYPE=image/jpeg:https://stmarypvdri.org/wp-content/uploads/2021/07/DEC_7267-scaled.jpg
END:VEVENT
BEGIN:VEVENT
DTSTART;TZID=UTC:20211204T100000
DTEND;TZID=UTC:20211204T113000
DTSTAMP:20260424T015438
CREATED:20211127T212501Z
LAST-MODIFIED:20211221T024900Z
UID:11800-1638612000-1638617400@stmarypvdri.org
SUMMARY:Little Flowers
DESCRIPTION:The Little Flowers group welcomes young girls ages 5-8 to learn about the virtues through Scripture\, Saints’ biographies\, and the Catechism.  We will have a tea luncheon\, and crafts at each meeting. \nThe Little Flowers will meet on the First Saturday of every month following Mass and First Saturday devotion.
URL:https://stmarypvdri.org/event/little-flowers/
LOCATION:St. Mary’s on Broadway\, 538 Broadway\, Providence\, RI\, 02909\, United States
CATEGORIES:Women's Group
ATTACH;FMTTYPE=image/jpeg:https://stmarypvdri.org/wp-content/uploads/2021/11/1I7A8440.jpg
END:VEVENT
BEGIN:VEVENT
DTSTART;TZID=UTC:20211204T100000
DTEND;TZID=UTC:20211204T113000
DTSTAMP:20260424T015438
CREATED:20211127T212129Z
LAST-MODIFIED:20211221T024748Z
UID:11798-1638612000-1638617400@stmarypvdri.org
SUMMARY:Rosa Mystica Girls Society
DESCRIPTION:Rosa Mystica Girls Society (RMGS) mission is to help young girls\, ages 9-13\, grow in faith\, virtue\, and service\, through hospitality\, in union with the Holy Sacrifice of the Mass. \nRMGS  will meet on the First Saturday of every month following Mass and First Saturday devotion.
URL:https://stmarypvdri.org/event/rosa-mystica-girls-society/
LOCATION:St. Mary’s on Broadway\, 538 Broadway\, Providence\, RI\, 02909\, United States
CATEGORIES:Women's Group
ATTACH;FMTTYPE=image/gif:https://stmarypvdri.org/wp-content/uploads/2021/07/mystical_rose-220x300-1.gif
END:VEVENT
END:VCALENDAR