BEGIN:VCALENDAR
VERSION:2.0
PRODID:-//St. Mary&#039;s on Broadway - ECPv6.15.1.1//NONSGML v1.0//EN
CALSCALE:GREGORIAN
METHOD:PUBLISH
X-WR-CALNAME:St. Mary&#039;s on Broadway
X-ORIGINAL-URL:https://stmarypvdri.org
X-WR-CALDESC:Events for St. Mary&#039;s on Broadway
REFRESH-INTERVAL;VALUE=DURATION:PT1H
X-Robots-Tag:noindex
X-PUBLISHED-TTL:PT1H
BEGIN:VTIMEZONE
TZID:America/New_York
BEGIN:DAYLIGHT
TZOFFSETFROM:-0500
TZOFFSETTO:-0400
TZNAME:EDT
DTSTART:20260308T070000
END:DAYLIGHT
BEGIN:STANDARD
TZOFFSETFROM:-0400
TZOFFSETTO:-0500
TZNAME:EST
DTSTART:20261101T060000
END:STANDARD
END:VTIMEZONE
BEGIN:VEVENT
DTSTART;TZID=America/New_York:20260702T184500
DTEND;TZID=America/New_York:20260702T194500
DTSTAMP:20260423T143001
CREATED:20220211T011028Z
LAST-MODIFIED:20220211T011028Z
UID:15677-1783017900-1783021500@stmarypvdri.org
SUMMARY:Adult Catechesis
DESCRIPTION:Adult Catechesis is a study of our faith\, examining the theological reasons of what we believe according to the principles and method of St. Thomas Aquinas. Particular emphasis is placed on topics of study whereby one is armed to answer modern errors or objections against the Catholic faith\, “being ready always to satisfy every one that asketh you a reason of that hope which is in you” (1 Pt. 3.15). \nPrevious talks may be found on the St. Mary’s on Broadway\, FSSP YouTube channel. \n\n 
URL:https://stmarypvdri.org/event/adult-catechesis-2026-07-02/
LOCATION:St. Mary’s on Broadway\, 538 Broadway\, Providence\, RI\, 02909\, United States
CATEGORIES:Spiritual Growth
END:VEVENT
END:VCALENDAR